BEGIN:VCALENDAR
VERSION:2.0
PRODID:-//100% Running Winterswijk - ECPv6.15.18//NONSGML v1.0//EN
CALSCALE:GREGORIAN
METHOD:PUBLISH
X-WR-CALNAME:100% Running Winterswijk
X-ORIGINAL-URL:https://www.100runningwinterswijk.nl
X-WR-CALDESC:Evenementen voor 100% Running Winterswijk
REFRESH-INTERVAL;VALUE=DURATION:PT1H
X-Robots-Tag:noindex
X-PUBLISHED-TTL:PT1H
BEGIN:VTIMEZONE
TZID:Europe/Paris
BEGIN:DAYLIGHT
TZOFFSETFROM:+0100
TZOFFSETTO:+0200
TZNAME:CEST
DTSTART:20180325T010000
END:DAYLIGHT
BEGIN:STANDARD
TZOFFSETFROM:+0200
TZOFFSETTO:+0100
TZNAME:CET
DTSTART:20181028T010000
END:STANDARD
BEGIN:DAYLIGHT
TZOFFSETFROM:+0100
TZOFFSETTO:+0200
TZNAME:CEST
DTSTART:20190331T010000
END:DAYLIGHT
BEGIN:STANDARD
TZOFFSETFROM:+0200
TZOFFSETTO:+0100
TZNAME:CET
DTSTART:20191027T010000
END:STANDARD
BEGIN:DAYLIGHT
TZOFFSETFROM:+0100
TZOFFSETTO:+0200
TZNAME:CEST
DTSTART:20200329T010000
END:DAYLIGHT
BEGIN:STANDARD
TZOFFSETFROM:+0200
TZOFFSETTO:+0100
TZNAME:CET
DTSTART:20201025T010000
END:STANDARD
END:VTIMEZONE
BEGIN:VEVENT
DTSTART;TZID=Europe/Paris:20190202T100000
DTEND;TZID=Europe/Paris:20190202T130000
DTSTAMP:20260421T142013
CREATED:20181021T101306Z
LAST-MODIFIED:20181022T193407Z
UID:316-1549101600-1549112400@www.100runningwinterswijk.nl
SUMMARY:Teambijeenkomst R'dam #2
DESCRIPTION:
URL:https://www.100runningwinterswijk.nl/event/teambijeenkomst-2/
END:VEVENT
BEGIN:VEVENT
DTSTART;TZID=Europe/Paris:20190216T100000
DTEND;TZID=Europe/Paris:20190216T133000
DTSTAMP:20260421T142013
CREATED:20190124T195741Z
LAST-MODIFIED:20190221T191734Z
UID:834-1550311200-1550323800@www.100runningwinterswijk.nl
SUMMARY:Winterwandeling in Kotten
DESCRIPTION:
URL:https://www.100runningwinterswijk.nl/event/winterwandeling-in-kotten/
END:VEVENT
END:VCALENDAR