BEGIN:VCALENDAR
VERSION:2.0
PRODID:-//100% Running Winterswijk - ECPv6.15.18//NONSGML v1.0//EN
CALSCALE:GREGORIAN
METHOD:PUBLISH
X-ORIGINAL-URL:https://www.100runningwinterswijk.nl
X-WR-CALDESC:Evenementen voor 100% Running Winterswijk
REFRESH-INTERVAL;VALUE=DURATION:PT1H
X-Robots-Tag:noindex
X-PUBLISHED-TTL:PT1H
BEGIN:VTIMEZONE
TZID:Europe/Paris
BEGIN:DAYLIGHT
TZOFFSETFROM:+0100
TZOFFSETTO:+0200
TZNAME:CEST
DTSTART:20190331T010000
END:DAYLIGHT
BEGIN:STANDARD
TZOFFSETFROM:+0200
TZOFFSETTO:+0100
TZNAME:CET
DTSTART:20191027T010000
END:STANDARD
BEGIN:DAYLIGHT
TZOFFSETFROM:+0100
TZOFFSETTO:+0200
TZNAME:CEST
DTSTART:20200329T010000
END:DAYLIGHT
BEGIN:STANDARD
TZOFFSETFROM:+0200
TZOFFSETTO:+0100
TZNAME:CET
DTSTART:20201025T010000
END:STANDARD
BEGIN:DAYLIGHT
TZOFFSETFROM:+0100
TZOFFSETTO:+0200
TZNAME:CEST
DTSTART:20210328T010000
END:DAYLIGHT
BEGIN:STANDARD
TZOFFSETFROM:+0200
TZOFFSETTO:+0100
TZNAME:CET
DTSTART:20211031T010000
END:STANDARD
END:VTIMEZONE
BEGIN:VEVENT
DTSTART;TZID=Europe/Paris:20200601T150000
DTEND;TZID=Europe/Paris:20200601T180000
DTSTAMP:20260420T162912
CREATED:20190928T093252Z
LAST-MODIFIED:20190928T093252Z
UID:940-1591023600-1591034400@www.100runningwinterswijk.nl
SUMMARY:Finish Roparun 2020 in Rotterdam
DESCRIPTION:
URL:https://www.100runningwinterswijk.nl/event/finish-roparun-2020-in-rotterdam/
ATTACH;FMTTYPE=image/jpeg:https://www.100runningwinterswijk.nl/wp-content/uploads/2019/09/WhatsApp-Image-2019-06-11-at-16.25.11.jpeg
END:VEVENT
END:VCALENDAR